BEGIN:VCALENDAR
VERSION:2.0
PRODID:-//hacksw/handcal//NONSGML v1.0//EN
CALSCALE:GREGORIAN
BEGIN:VEVENT
DTEND:20260808T230000Z
UID:69e9bc32ae2e8
DTSTAMP:20260423T072906Z
LOCATION:8720 St. Margarethen bei Knittelfeld
DESCRIPTION:
URL;VALUE=URI:
SUMMARY:Steiraman X-treme Triathlon & SKYrun
DTSTART:20260808T230000Z
END:VEVENT
END:VCALENDAR
An internal server error occurred.