BEGIN:VCALENDAR
VERSION:2.0
PRODID:-//hacksw/handcal//NONSGML v1.0//EN
CALSCALE:GREGORIAN
BEGIN:VEVENT
DTEND:20260808T230000Z
UID:69e737671b051
DTSTAMP:20260421T093759Z
LOCATION:11111 Rio de Janeiro
DESCRIPTION:
URL;VALUE=URI:
SUMMARY:IRONMAN 70.3 Rio de Janeiro
DTSTART:20260808T230000Z
END:VEVENT
END:VCALENDAR
An internal server error occurred.