BEGIN:VCALENDAR
VERSION:2.0
PRODID:-//hacksw/handcal//NONSGML v1.0//EN
CALSCALE:GREGORIAN
BEGIN:VEVENT
DTEND:20260808T230000Z
UID:69e63300b7c3c
DTSTAMP:20260420T150656Z
LOCATION:Lapu-Lapu\, Cebu\, Philippines
DESCRIPTION:
URL;VALUE=URI:
SUMMARY:IRONMAN 70.3 Philippines
DTSTART:20260808T230000Z
END:VEVENT
END:VCALENDAR
An internal server error occurred.