BEGIN:VCALENDAR
VERSION:2.0
PRODID:-//hacksw/handcal//NONSGML v1.0//EN
CALSCALE:GREGORIAN
BEGIN:VEVENT
DTEND:20260808T230000Z
UID:69e623a47f68c
DTSTAMP:20260420T140124Z
LOCATION:3907 Gondo
DESCRIPTION:
URL;VALUE=URI:
SUMMARY:Gondo Marathon
DTSTART:20260807T230000Z
END:VEVENT
END:VCALENDAR
An internal server error occurred.