BEGIN:VCALENDAR
VERSION:2.0
PRODID:-//hacksw/handcal//NONSGML v1.0//EN
CALSCALE:GREGORIAN
BEGIN:VEVENT
DTEND:20260725T230000Z
UID:69e611ead1ebe
DTSTAMP:20260420T124546Z
LOCATION:04330 Augusta\, Maine
DESCRIPTION:
URL;VALUE=URI:
SUMMARY:IRONMAN 70.3 Maine
DTSTART:20260725T230000Z
END:VEVENT
END:VCALENDAR
An internal server error occurred.