BEGIN:VCALENDAR
VERSION:2.0
PRODID:-//hacksw/handcal//NONSGML v1.0//EN
CALSCALE:GREGORIAN
BEGIN:VEVENT
DTEND:20260725T230000Z
UID:69e60dd571fbf
DTSTAMP:20260420T122821Z
LOCATION:T1S 0T3 Calgary\, Alberta

DESCRIPTION:
 

URL;VALUE=URI:
SUMMARY:IRONMAN 70.3 Calgary
DTSTART:20260725T230000Z
END:VEVENT
END:VCALENDAR
An internal server error occurred.