BEGIN:VCALENDAR
VERSION:2.0
PRODID:-//hacksw/handcal//NONSGML v1.0//EN
CALSCALE:GREGORIAN
BEGIN:VEVENT
DTEND:20260718T230000Z
UID:69e684c470f2f
DTSTAMP:20260420T205548Z
LOCATION:97301 Salem
DESCRIPTION:
URL;VALUE=URI:
SUMMARY:IRONMAN 70.3 Oregon
DTSTART:20260718T230000Z
END:VEVENT
END:VCALENDAR
An internal server error occurred.