BEGIN:VCALENDAR
VERSION:2.0
PRODID:-//hacksw/handcal//NONSGML v1.0//EN
CALSCALE:GREGORIAN
BEGIN:VEVENT
DTEND:20260718T230000Z
UID:69e60dd2189a4
DTSTAMP:20260420T122818Z
LOCATION:12946 Lake Placid\, New York
DESCRIPTION:
 

URL;VALUE=URI:
SUMMARY:IRONMAN Lake Placid
DTSTART:20260718T230000Z
END:VEVENT
END:VCALENDAR
An internal server error occurred.