BEGIN:VCALENDAR
VERSION:2.0
PRODID:-//hacksw/handcal//NONSGML v1.0//EN
CALSCALE:GREGORIAN
BEGIN:VEVENT
DTEND:20260718T230000Z
UID:69e60dd503522
DTSTAMP:20260420T122821Z
LOCATION:130203 Manta\, Manabi
DESCRIPTION:
URL;VALUE=URI:
SUMMARY:IRONMAN 70.3 Ecuador
DTSTART:20260718T230000Z
END:VEVENT
END:VCALENDAR
An internal server error occurred.