BEGIN:VCALENDAR
VERSION:2.0
PRODID:-//hacksw/handcal//NONSGML v1.0//EN
CALSCALE:GREGORIAN
BEGIN:VEVENT
DTEND:20260717T230000Z
UID:69e5e674bec01
DTSTAMP:20260420T094020Z
LOCATION:7503 Samedan
DESCRIPTION:
URL;VALUE=URI:
SUMMARY:Engadin Ultra Trail
DTSTART:20260716T230000Z
END:VEVENT
END:VCALENDAR
An internal server error occurred.