BEGIN:VCALENDAR
VERSION:2.0
PRODID:-//hacksw/handcal//NONSGML v1.0//EN
CALSCALE:GREGORIAN
BEGIN:VEVENT
DTEND:20260718T230000Z
UID:69e5f1a0e7b71
DTSTAMP:20260420T102800Z
LOCATION:3818 Grindelwald
DESCRIPTION:
URL;VALUE=URI:
SUMMARY:Eiger Ultra Trail
DTSTART:20260714T230000Z
END:VEVENT
END:VCALENDAR
An internal server error occurred.