BEGIN:VCALENDAR
VERSION:2.0
PRODID:-//hacksw/handcal//NONSGML v1.0//EN
CALSCALE:GREGORIAN
BEGIN:VEVENT
DTEND:20260711T230000Z
UID:69e5e43fd04ed
DTSTAMP:20260420T093055Z
LOCATION:72585 Metzingen
DESCRIPTION:
URL;VALUE=URI:
SUMMARY:Ermstal-Marathon
DTSTART:20260711T230000Z
END:VEVENT
END:VCALENDAR
An internal server error occurred.