BEGIN:VCALENDAR
VERSION:2.0
PRODID:-//hacksw/handcal//NONSGML v1.0//EN
CALSCALE:GREGORIAN
BEGIN:VEVENT
DTEND:20260711T230000Z
UID:69e5ee0a71852
DTSTAMP:20260420T101242Z
LOCATION:55760 Remich-Région Moselle
DESCRIPTION:
URL;VALUE=URI:
SUMMARY:IRONMAN 70.3 Luxembourg
DTSTART:20260711T230000Z
END:VEVENT
END:VCALENDAR
An internal server error occurred.