BEGIN:VCALENDAR
VERSION:2.0
PRODID:-//hacksw/handcal//NONSGML v1.0//EN
CALSCALE:GREGORIAN
BEGIN:VEVENT
DTEND:20260710T230000Z
UID:69e5e232ef514
DTSTAMP:20260420T092210Z
LOCATION:47303 Muncie

DESCRIPTION:
URL;VALUE=URI:
SUMMARY:IRONMAN 70.3 Muncie
DTSTART:20260710T230000Z
END:VEVENT
END:VCALENDAR
An internal server error occurred.