BEGIN:VCALENDAR
VERSION:2.0
PRODID:-//hacksw/handcal//NONSGML v1.0//EN
CALSCALE:GREGORIAN
BEGIN:VEVENT
DTEND:20260710T230000Z
UID:69e63b4db82c8
DTSTAMP:20260420T154221Z
LOCATION:39027 Graun
DESCRIPTION:
URL;VALUE=URI:
SUMMARY:Reschenseelauf
DTSTART:20260710T230000Z
END:VEVENT
END:VCALENDAR
An internal server error occurred.