BEGIN:VCALENDAR
VERSION:2.0
PRODID:-//hacksw/handcal//NONSGML v1.0//EN
CALSCALE:GREGORIAN
BEGIN:VEVENT
DTEND:20260704T230000Z
UID:69e81227d929b
DTSTAMP:20260422T011119Z
LOCATION:POA 1HO Huntsville\, Ontario

DESCRIPTION:
URL;VALUE=URI:
SUMMARY:IRONMAN 70.3 Muskoka
DTSTART:20260704T230000Z
END:VEVENT
END:VCALENDAR
An internal server error occurred.