BEGIN:VCALENDAR
VERSION:2.0
PRODID:-//hacksw/handcal//NONSGML v1.0//EN
CALSCALE:GREGORIAN
BEGIN:VEVENT
DTEND:20260704T230000Z
UID:69e611eaa5fc2
DTSTAMP:20260420T124546Z
LOCATION:553 02 Jönköping
DESCRIPTION:
URL;VALUE=URI:
SUMMARY:IRONMAN 70.3 Jonkoping
DTSTART:20260704T230000Z
END:VEVENT
END:VCALENDAR
An internal server error occurred.