BEGIN:VCALENDAR
VERSION:2.0
PRODID:-//hacksw/handcal//NONSGML v1.0//EN
CALSCALE:GREGORIAN
BEGIN:VEVENT
DTEND:20260703T230000Z
UID:69e70ec6e5af0
DTSTAMP:20260421T064438Z
LOCATION:4853 Steinbach am Attersee
DESCRIPTION:
URL;VALUE=URI:
SUMMARY:Steinbacher Dorflauf
DTSTART:20260703T230000Z
END:VEVENT
END:VCALENDAR
An internal server error occurred.