BEGIN:VCALENDAR
VERSION:2.0
PRODID:-//hacksw/handcal//NONSGML v1.0//EN
CALSCALE:GREGORIAN
BEGIN:VEVENT
DTEND:20260626T230000Z
UID:69e5cc2819d85
DTSTAMP:20260420T074808Z
LOCATION:4784 Schardenberg
DESCRIPTION:
URL;VALUE=URI:
SUMMARY:Sauwald Trail
DTSTART:20260626T230000Z
END:VEVENT
END:VCALENDAR
An internal server error occurred.