BEGIN:VCALENDAR
VERSION:2.0
PRODID:-//hacksw/handcal//NONSGML v1.0//EN
CALSCALE:GREGORIAN
BEGIN:VEVENT
DTEND:20260703T230000Z
UID:69e5ee0a58ec3
DTSTAMP:20260420T101242Z
LOCATION:3920 Zermatt
DESCRIPTION:
URL;VALUE=URI:
SUMMARY:Zermatt Marathon
DTSTART:20260702T230000Z
END:VEVENT
END:VCALENDAR
An internal server error occurred.