BEGIN:VCALENDAR
VERSION:2.0
PRODID:-//hacksw/handcal//NONSGML v1.0//EN
CALSCALE:GREGORIAN
BEGIN:VEVENT
DTEND:20260703T230000Z
UID:69e63b4e6b761
DTSTAMP:20260420T154222Z
LOCATION:6847 Vassenden
DESCRIPTION:
URL;VALUE=URI:
SUMMARY:Jølster Maraton
DTSTART:20260703T230000Z
END:VEVENT
END:VCALENDAR
An internal server error occurred.