BEGIN:VCALENDAR
VERSION:2.0
PRODID:-//hacksw/handcal//NONSGML v1.0//EN
CALSCALE:GREGORIAN
BEGIN:VEVENT
DTEND:20260709T230000Z
UID:69e73aca2881a
DTSTAMP:20260421T095226Z
LOCATION:4841 Timelkam
DESCRIPTION:
URL;VALUE=URI:
SUMMARY:Vöckla-Ufer-Lauf
DTSTART:20260709T230000Z
END:VEVENT
END:VCALENDAR
An internal server error occurred.