BEGIN:VCALENDAR
VERSION:2.0
PRODID:-//hacksw/handcal//NONSGML v1.0//EN
CALSCALE:GREGORIAN
BEGIN:VEVENT
DTEND:20260702T230000Z
UID:69e74196c6f32
DTSTAMP:20260421T102126Z
LOCATION:54439 Saarburg
DESCRIPTION:
URL;VALUE=URI:
SUMMARY:Stadtlauf Saarburg
DTSTART:20260702T230000Z
END:VEVENT
END:VCALENDAR
An internal server error occurred.