BEGIN:VCALENDAR
VERSION:2.0
PRODID:-//hacksw/handcal//NONSGML v1.0//EN
CALSCALE:GREGORIAN
BEGIN:VEVENT
DTEND:20260703T230000Z
UID:69e5e237b0163
DTSTAMP:20260420T092215Z
LOCATION:7504 Pontresina
DESCRIPTION:
URL;VALUE=URI:
SUMMARY:Bernina Gletschermarathon
DTSTART:20260702T230000Z
END:VEVENT
END:VCALENDAR
An internal server error occurred.