BEGIN:VCALENDAR
VERSION:2.0
PRODID:-//hacksw/handcal//NONSGML v1.0//EN
CALSCALE:GREGORIAN
BEGIN:VEVENT
DTEND:20261016T230000Z
UID:69e9881abecca
DTSTAMP:20260423T034650Z
LOCATION:5162 Seekirchen am Wallersee
DESCRIPTION:
URL;VALUE=URI:
SUMMARY:Austria Backyard Ultra - Seekirchen am Wallersee
DTSTART:20261016T230000Z
END:VEVENT
END:VCALENDAR
An internal server error occurred.