BEGIN:VCALENDAR
VERSION:2.0
PRODID:-//hacksw/handcal//NONSGML v1.0//EN
CALSCALE:GREGORIAN
BEGIN:VEVENT
DTEND:20260709T230000Z
UID:69e9a30eacec2
DTSTAMP:20260423T054150Z
LOCATION:8423 Wagendorf
DESCRIPTION:
URL;VALUE=URI:
SUMMARY:Austria Backyard Ultra - Wagendorf/Oststeiermark
DTSTART:20260709T230000Z
END:VEVENT
END:VCALENDAR
An internal server error occurred.