BEGIN:VCALENDAR
VERSION:2.0
PRODID:-//hacksw/handcal//NONSGML v1.0//EN
CALSCALE:GREGORIAN
BEGIN:VEVENT
DTEND:20260627T230000Z
UID:69e5cc23c2cbf
DTSTAMP:20260420T074803Z
LOCATION:7460 Savognin 
DESCRIPTION:
URL;VALUE=URI:
SUMMARY:Swiss Irontrail
DTSTART:20260626T230000Z
END:VEVENT
END:VCALENDAR
An internal server error occurred.