BEGIN:VCALENDAR
VERSION:2.0
PRODID:-//hacksw/handcal//NONSGML v1.0//EN
CALSCALE:GREGORIAN
BEGIN:VEVENT
DTEND:20260703T230000Z
UID:69e679d53c6ec
DTSTAMP:20260420T200909Z
LOCATION:6167 Neustift
DESCRIPTION:
URL;VALUE=URI:
SUMMARY:Stubai Ultratrail
DTSTART:20260702T230000Z
END:VEVENT
END:VCALENDAR
An internal server error occurred.