BEGIN:VCALENDAR
VERSION:2.0
PRODID:-//hacksw/handcal//NONSGML v1.0//EN
CALSCALE:GREGORIAN
BEGIN:VEVENT
DTEND:20260627T230000Z
UID:69e5cf7925e32
DTSTAMP:20260420T080217Z
LOCATION:92363 Breitenbrunn
DESCRIPTION:
URL;VALUE=URI:
SUMMARY:SachsenTrail
DTSTART:20260625T230000Z
END:VEVENT
END:VCALENDAR
An internal server error occurred.