BEGIN:VCALENDAR
VERSION:2.0
PRODID:-//hacksw/handcal//NONSGML v1.0//EN
CALSCALE:GREGORIAN
BEGIN:VEVENT
DTEND:20260627T230000Z
UID:69e5cf77ed2ee
DTSTAMP:20260420T080215Z
LOCATION:74400 Chamonix-Mont-Blanc
DESCRIPTION:
URL;VALUE=URI:
SUMMARY:Mont-Blanc Marathon
DTSTART:20260624T230000Z
END:VEVENT
END:VCALENDAR
An internal server error occurred.