BEGIN:VCALENDAR
VERSION:2.0
PRODID:-//hacksw/handcal//NONSGML v1.0//EN
CALSCALE:GREGORIAN
BEGIN:VEVENT
DTEND:20260919T230000Z
UID:69e725a9617a6
DTSTAMP:20260421T082217Z
LOCATION:8943 Aigen im Ennstal
DESCRIPTION:
URL;VALUE=URI:
SUMMARY:Grimming Volkslauf
DTSTART:20260919T230000Z
END:VEVENT
END:VCALENDAR
An internal server error occurred.