BEGIN:VCALENDAR
VERSION:2.0
PRODID:-//hacksw/handcal//NONSGML v1.0//EN
CALSCALE:GREGORIAN
BEGIN:VEVENT
DTEND:20260620T230000Z
UID:69eca0a3d6ac7
DTSTAMP:20260425T120819Z
LOCATION:3203 Rabenstein an der Pielach
DESCRIPTION:
URL;VALUE=URI:
SUMMARY:Geisbühel Berglauf Rabenstein
DTSTART:20260620T230000Z
END:VEVENT
END:VCALENDAR
An internal server error occurred.