BEGIN:VCALENDAR
VERSION:2.0
PRODID:-//hacksw/handcal//NONSGML v1.0//EN
CALSCALE:GREGORIAN
BEGIN:VEVENT
DTEND:20260620T230000Z
UID:69e859deda415
DTSTAMP:20260422T061718Z
LOCATION:3300 Amstetten
DESCRIPTION:
URL;VALUE=URI:
SUMMARY:Stadt-Triathlon-Amstetten
DTSTART:20260620T230000Z
END:VEVENT
END:VCALENDAR
An internal server error occurred.