BEGIN:VCALENDAR
VERSION:2.0
PRODID:-//hacksw/handcal//NONSGML v1.0//EN
CALSCALE:GREGORIAN
BEGIN:VEVENT
DTEND:20260620T230000Z
UID:69e5bb11f2bcd
DTSTAMP:20260420T063513Z
LOCATION:8742 St. Anna am Lavantegg
DESCRIPTION:
URL;VALUE=URI:
SUMMARY:Zirbitzlauf
DTSTART:20260620T230000Z
END:VEVENT
END:VCALENDAR
An internal server error occurred.