BEGIN:VCALENDAR
VERSION:2.0
PRODID:-//hacksw/handcal//NONSGML v1.0//EN
CALSCALE:GREGORIAN
BEGIN:VEVENT
DTEND:20260613T230000Z
UID:69e5f19f619c2
DTSTAMP:20260420T102759Z
LOCATION:4975 Suben
DESCRIPTION:
URL;VALUE=URI:
SUMMARY:Lindetwaldlauf und Lindetwaldtrail
DTSTART:20260613T230000Z
END:VEVENT
END:VCALENDAR
An internal server error occurred.