BEGIN:VCALENDAR
VERSION:2.0
PRODID:-//hacksw/handcal//NONSGML v1.0//EN
CALSCALE:GREGORIAN
BEGIN:VEVENT
DTEND:20260613T230000Z
UID:69e59f9dcb91f
DTSTAMP:20260420T043805Z
LOCATION:26384 Wilhelmshaven
DESCRIPTION:
URL;VALUE=URI:
SUMMARY:Gorch-Fock-Lauf
DTSTART:20260613T230000Z
END:VEVENT
END:VCALENDAR
An internal server error occurred.