BEGIN:VCALENDAR
VERSION:2.0
PRODID:-//hacksw/handcal//NONSGML v1.0//EN
CALSCALE:GREGORIAN
BEGIN:VEVENT
DTEND:20260724T230000Z
UID:69e611ea4cc16
DTSTAMP:20260420T124546Z
LOCATION:3874 Litschau
DESCRIPTION:
URL;VALUE=URI:
SUMMARY:Herbalife5k Waldviertel
DTSTART:20260724T230000Z
END:VEVENT
END:VCALENDAR
An internal server error occurred.