BEGIN:VCALENDAR
VERSION:2.0
PRODID:-//hacksw/handcal//NONSGML v1.0//EN
CALSCALE:GREGORIAN
BEGIN:VEVENT
DTEND:20260603T230000Z
UID:69e5ca6ee1c26
DTSTAMP:20260420T074046Z
LOCATION:3830 Waidhofen an der Thaya
DESCRIPTION:
URL;VALUE=URI:
SUMMARY:Waidhofner Thayatal Triathlon
DTSTART:20260603T230000Z
END:VEVENT
END:VCALENDAR
An internal server error occurred.