BEGIN:VCALENDAR
VERSION:2.0
PRODID:-//hacksw/handcal//NONSGML v1.0//EN
CALSCALE:GREGORIAN
BEGIN:VEVENT
DTEND:20260602T230000Z
UID:69e5333924713
DTSTAMP:20260419T205537Z
LOCATION:53175 Bonn
DESCRIPTION:
URL;VALUE=URI:
SUMMARY:Bonner Nachtlauf
DTSTART:20260602T230000Z
END:VEVENT
END:VCALENDAR
An internal server error occurred.