BEGIN:VCALENDAR
VERSION:2.0
PRODID:-//hacksw/handcal//NONSGML v1.0//EN
CALSCALE:GREGORIAN
BEGIN:VEVENT
DTEND:20260606T230000Z
UID:69e59f99af24d
DTSTAMP:20260420T043801Z
LOCATION:2222 Subic Bay

DESCRIPTION:
URL;VALUE=URI:
SUMMARY:IRONMAN 70.3 Subic Bay Philippines
DTSTART:20260606T230000Z
END:VEVENT
END:VCALENDAR
An internal server error occurred.