BEGIN:VCALENDAR
VERSION:2.0
PRODID:-//hacksw/handcal//NONSGML v1.0//EN
CALSCALE:GREGORIAN
BEGIN:VEVENT
DTEND:20260606T230000Z
UID:69e533397455b
DTSTAMP:20260419T205537Z
LOCATION:02826 Görlitz
DESCRIPTION:
URL;VALUE=URI:
SUMMARY:Europa Marathon Görlitz
DTSTART:20260606T230000Z
END:VEVENT
END:VCALENDAR
An internal server error occurred.