BEGIN:VCALENDAR
VERSION:2.0
PRODID:-//hacksw/handcal//NONSGML v1.0//EN
CALSCALE:GREGORIAN
BEGIN:VEVENT
DTEND:20260613T230000Z
UID:69e59b58d25b2
DTSTAMP:20260420T041952Z
LOCATION:54649 Waxweiler
DESCRIPTION:
URL;VALUE=URI:
SUMMARY:Eifel Marathon
DTSTART:20260613T230000Z
END:VEVENT
END:VCALENDAR
An internal server error occurred.