BEGIN:VCALENDAR
VERSION:2.0
PRODID:-//hacksw/handcal//NONSGML v1.0//EN
CALSCALE:GREGORIAN
BEGIN:VEVENT
DTEND:20260619T230000Z
UID:69e59b59b3ae9
DTSTAMP:20260420T041953Z
LOCATION:6020 Innsbruck
DESCRIPTION:
URL;VALUE=URI:
SUMMARY:Tirol Läuft
DTSTART:20260618T230000Z
END:VEVENT
END:VCALENDAR
An internal server error occurred.