BEGIN:VCALENDAR
VERSION:2.0
PRODID:-//hacksw/handcal//NONSGML v1.0//EN
CALSCALE:GREGORIAN
BEGIN:VEVENT
DTEND:20260612T230000Z
UID:69e5bb21cf90f
DTSTAMP:20260420T063529Z
LOCATION:17033 Neubrandenburg
DESCRIPTION:
URL;VALUE=URI:
SUMMARY:Tollenseseelauf
DTSTART:20260612T230000Z
END:VEVENT
END:VCALENDAR
An internal server error occurred.