BEGIN:VCALENDAR
VERSION:2.0
PRODID:-//hacksw/handcal//NONSGML v1.0//EN
CALSCALE:GREGORIAN
BEGIN:VEVENT
DTEND:20260612T230000Z
UID:69e59f991e854
DTSTAMP:20260420T043801Z
LOCATION:80301 Boulder\, Colorado

DESCRIPTION:
 

URL;VALUE=URI:
SUMMARY:IRONMAN 70.3 Boulder
DTSTART:20260612T230000Z
END:VEVENT
END:VCALENDAR
An internal server error occurred.