BEGIN:VCALENDAR
VERSION:2.0
PRODID:-//hacksw/handcal//NONSGML v1.0//EN
CALSCALE:GREGORIAN
BEGIN:VEVENT
DTEND:20260626T230000Z
UID:69e5e234dad41
DTSTAMP:20260420T092212Z
LOCATION:27632 Nordseeküste
DESCRIPTION:
URL;VALUE=URI:
SUMMARY:EWE-Nordseelauf
DTSTART:20260619T230000Z
END:VEVENT
END:VCALENDAR
An internal server error occurred.