BEGIN:VCALENDAR
VERSION:2.0
PRODID:-//hacksw/handcal//NONSGML v1.0//EN
CALSCALE:GREGORIAN
BEGIN:VEVENT
DTEND:20260904T230000Z
UID:69e611eabbe23
DTSTAMP:20260420T124546Z
LOCATION:10176 Berlin
DESCRIPTION:
URL;VALUE=URI:
SUMMARY:Gravel Run Berlin
DTSTART:20260904T230000Z
END:VEVENT
END:VCALENDAR
An internal server error occurred.