BEGIN:VCALENDAR
VERSION:2.0
PRODID:-//hacksw/handcal//NONSGML v1.0//EN
CALSCALE:GREGORIAN
BEGIN:VEVENT
DTEND:20260814T230000Z
UID:69eb1c46e38ac
DTSTAMP:20260424T083118Z
LOCATION:45699 Herten
DESCRIPTION:
URL;VALUE=URI:
SUMMARY:Gravel Run im Ruhrgebiet
DTSTART:20260814T230000Z
END:VEVENT
END:VCALENDAR
An internal server error occurred.