BEGIN:VCALENDAR
VERSION:2.0
PRODID:-//hacksw/handcal//NONSGML v1.0//EN
CALSCALE:GREGORIAN
BEGIN:VEVENT
DTEND:20260528T230000Z
UID:69e90912b1e3b
DTSTAMP:20260422T184450Z
LOCATION:5020 Salzburg
DESCRIPTION:
URL;VALUE=URI:
SUMMARY:Herzlauf Salzburg
DTSTART:20260528T230000Z
END:VEVENT
END:VCALENDAR
An internal server error occurred.