BEGIN:VCALENDAR
VERSION:2.0
PRODID:-//hacksw/handcal//NONSGML v1.0//EN
CALSCALE:GREGORIAN
BEGIN:VEVENT
DTEND:20260524T230000Z
UID:69e52ae9ae297
DTSTAMP:20260419T202009Z
LOCATION:4810 Gmunden
DESCRIPTION:
URL;VALUE=URI:
SUMMARY:Pfandler Dammlauf
DTSTART:20260524T230000Z
END:VEVENT
END:VCALENDAR
An internal server error occurred.